Package: marr Version: 1.19.0 Command: /home/biocbuild/R/R/bin/R CMD INSTALL marr StartedAt: 2025-10-16 21:31:12 -0000 (Thu, 16 Oct 2025) EndedAt: 2025-10-16 21:31:55 -0000 (Thu, 16 Oct 2025) EllapsedTime: 43.0 seconds RetCode: 0 Status: OK