Package: marr Version: 1.19.0 Command: /home/biocbuild/R/R/bin/R CMD build --keep-empty-dirs --no-resave-data marr StartedAt: 2025-10-17 02:19:23 -0000 (Fri, 17 Oct 2025) EndedAt: 2025-10-17 02:20:28 -0000 (Fri, 17 Oct 2025) EllapsedTime: 65.0 seconds RetCode: 0 Status: OK PackageFile: marr_1.19.0.tar.gz PackageFileSize: 652.7 KiB