Package: marr Version: 1.19.0 Command: rm -rf marr.buildbin-libdir && mkdir marr.buildbin-libdir && F:\biocbuild\bbs-3.22-bioc\R\bin\R.exe CMD INSTALL --build --library=marr.buildbin-libdir marr_1.19.0.tar.gz StartedAt: 2025-08-15 10:37:31 -0400 (Fri, 15 Aug 2025) EndedAt: 2025-08-15 10:38:20 -0400 (Fri, 15 Aug 2025) EllapsedTime: 48.6 seconds RetCode: 0 Status: OK PackageFile: marr_1.19.0.zip PackageFileSize: 1.103 MiB