Package: marr Version: 1.19.0 Command: /home/biocbuild/bbs-3.22-bioc/R/bin/R CMD INSTALL marr StartedAt: 2025-10-19 15:20:52 -0400 (Sun, 19 Oct 2025) EndedAt: 2025-10-19 15:21:23 -0400 (Sun, 19 Oct 2025) EllapsedTime: 31.5 seconds RetCode: 0 Status: OK