Package: marr Version: 1.19.0 Command: /home/biocbuild/bbs-3.22-bioc/R/bin/R CMD check --install=check:marr.install-out.txt --library=/home/biocbuild/bbs-3.22-bioc/R/site-library --timings marr_1.19.0.tar.gz StartedAt: 2025-10-20 01:29:53 -0400 (Mon, 20 Oct 2025) EndedAt: 2025-10-20 01:33:25 -0400 (Mon, 20 Oct 2025) EllapsedTime: 211.3 seconds RetCode: 0 Status: OK CheckDir: marr.Rcheck Warnings: 0