Package: marr Version: 1.19.0 Command: /Library/Frameworks/R.framework/Resources/bin/R CMD INSTALL marr StartedAt: 2025-10-19 15:21:45 -0400 (Sun, 19 Oct 2025) EndedAt: 2025-10-19 15:22:25 -0400 (Sun, 19 Oct 2025) EllapsedTime: 40.7 seconds RetCode: 0 Status: OK