Package: marr Version: 1.19.0 Command: rm -rf marr.buildbin-libdir && mkdir marr.buildbin-libdir && /Users/biocbuild/BBS/utils/build-universal.sh marr_1.19.0.tar.gz /Library/Frameworks/R.framework/Resources/bin/R marr.buildbin-libdir StartedAt: 2025-10-20 03:17:00 -0400 (Mon, 20 Oct 2025) EndedAt: 2025-10-20 03:17:47 -0400 (Mon, 20 Oct 2025) EllapsedTime: 47.6 seconds RetCode: 0 Status: OK PackageFile: marr_1.19.0.tgz PackageFileSize: 808.7 KiB