Package: marr Version: 1.19.0 Command: /Library/Frameworks/R.framework/Resources/bin/R CMD build --keep-empty-dirs --no-resave-data marr StartedAt: 2025-10-19 16:51:12 -0400 (Sun, 19 Oct 2025) EndedAt: 2025-10-19 16:51:32 -0400 (Sun, 19 Oct 2025) EllapsedTime: 20.2 seconds RetCode: 0 Status: OK PackageFile: marr_1.19.0.tar.gz PackageFileSize: 591.6 KiB