Package: marr Version: 1.19.0 Command: rm -rf marr.buildbin-libdir && mkdir marr.buildbin-libdir && /Users/biocbuild/BBS/utils/build-universal.sh marr_1.19.0.tar.gz /Library/Frameworks/R.framework/Resources/bin/R marr.buildbin-libdir StartedAt: 2025-10-19 23:04:56 -0400 (Sun, 19 Oct 2025) EndedAt: 2025-10-19 23:05:10 -0400 (Sun, 19 Oct 2025) EllapsedTime: 13.3 seconds RetCode: 0 Status: OK PackageFile: marr_1.19.0.tgz PackageFileSize: 809.3 KiB