Package: mariner Version: 1.9.1 Command: F:\biocbuild\bbs-3.22-bioc\R\bin\R.exe CMD check --no-multiarch --install=check:mariner.install-out.txt --library=F:\biocbuild\bbs-3.22-bioc\R\library --no-vignettes --timings mariner_1.9.1.tar.gz StartedAt: 2025-08-15 04:45:06 -0400 (Fri, 15 Aug 2025) EndedAt: 2025-08-15 05:15:11 -0400 (Fri, 15 Aug 2025) EllapsedTime: 1804.6 seconds RetCode: 0 Status: OK CheckDir: mariner.Rcheck Warnings: 0