Package: mariner Version: 1.10.0 Command: /home/biocbuild/bbs-3.22-bioc/R/bin/R CMD INSTALL mariner StartedAt: 2025-11-13 15:36:47 -0500 (Thu, 13 Nov 2025) EndedAt: 2025-11-13 15:37:01 -0500 (Thu, 13 Nov 2025) EllapsedTime: 13.7 seconds RetCode: 1 Status: ERROR