Package: mariner Version: 1.10.0 Command: /home/biocbuild/bbs-3.22-bioc/R/bin/R CMD build --keep-empty-dirs --no-resave-data --md5 mariner StartedAt: 2025-11-13 18:30:30 -0500 (Thu, 13 Nov 2025) EndedAt: 2025-11-13 18:30:42 -0500 (Thu, 13 Nov 2025) EllapsedTime: 12.0 seconds RetCode: 1 Status: ERROR PackageFile: None PackageFileSize: NA