Package: mariner Version: 1.10.0 Command: /Library/Frameworks/R.framework/Resources/bin/R CMD INSTALL mariner StartedAt: 2025-10-31 15:22:49 -0400 (Fri, 31 Oct 2025) EndedAt: 2025-10-31 15:23:07 -0400 (Fri, 31 Oct 2025) EllapsedTime: 18.6 seconds RetCode: 0 Status: OK