Package: mariner Version: 1.10.0 Command: /Library/Frameworks/R.framework/Resources/bin/R CMD build --keep-empty-dirs --no-resave-data mariner StartedAt: 2025-10-31 16:56:23 -0400 (Fri, 31 Oct 2025) EndedAt: 2025-10-31 16:57:14 -0400 (Fri, 31 Oct 2025) EllapsedTime: 51.6 seconds RetCode: 0 Status: OK PackageFile: mariner_1.10.0.tar.gz PackageFileSize: 910.9 KiB