Package: mapscape Version: 1.33.0 Command: /home/biocbuild/R/R/bin/R CMD build --keep-empty-dirs --no-resave-data mapscape StartedAt: 2025-10-21 00:53:34 -0000 (Tue, 21 Oct 2025) EndedAt: 2025-10-21 00:53:44 -0000 (Tue, 21 Oct 2025) EllapsedTime: 10.0 seconds RetCode: 0 Status: OK PackageFile: mapscape_1.33.0.tar.gz PackageFileSize: 4.915 MiB