Package: mapscape Version: 1.33.0 Command: rm -rf mapscape.buildbin-libdir && mkdir mapscape.buildbin-libdir && F:\biocbuild\bbs-3.22-bioc\R\bin\R.exe CMD INSTALL --build --library=mapscape.buildbin-libdir mapscape_1.33.0.tar.gz StartedAt: 2025-08-15 10:37:27 -0400 (Fri, 15 Aug 2025) EndedAt: 2025-08-15 10:37:44 -0400 (Fri, 15 Aug 2025) EllapsedTime: 17.7 seconds RetCode: 0 Status: OK PackageFile: mapscape_1.33.0.zip PackageFileSize: 4.136 MiB