Package: mapscape Version: 1.33.0 Command: /home/biocbuild/bbs-3.22-bioc/R/bin/R CMD INSTALL mapscape StartedAt: 2025-10-20 15:06:03 -0400 (Mon, 20 Oct 2025) EndedAt: 2025-10-20 15:06:42 -0400 (Mon, 20 Oct 2025) EllapsedTime: 39.5 seconds RetCode: 0 Status: OK