Package: mapscape Version: 1.33.0 Command: /Library/Frameworks/R.framework/Resources/bin/R CMD INSTALL mapscape StartedAt: 2025-10-19 15:04:01 -0400 (Sun, 19 Oct 2025) EndedAt: 2025-10-19 15:04:20 -0400 (Sun, 19 Oct 2025) EllapsedTime: 19.0 seconds RetCode: 0 Status: OK