Package: mapscape Version: 1.33.0 Command: /Library/Frameworks/R.framework/Resources/bin/R CMD check --install=check:mapscape.install-out.txt --library=/Library/Frameworks/R.framework/Resources/library --no-vignettes --timings mapscape_1.33.0.tar.gz StartedAt: 2025-10-19 20:26:48 -0400 (Sun, 19 Oct 2025) EndedAt: 2025-10-19 20:27:02 -0400 (Sun, 19 Oct 2025) EllapsedTime: 13.2 seconds RetCode: 0 Status: WARNINGS CheckDir: mapscape.Rcheck Warnings: 1