Package: mapscape Version: 1.33.0 Command: /Library/Frameworks/R.framework/Resources/bin/R CMD build --keep-empty-dirs --no-resave-data mapscape StartedAt: 2025-10-19 16:51:00 -0400 (Sun, 19 Oct 2025) EndedAt: 2025-10-19 16:51:04 -0400 (Sun, 19 Oct 2025) EllapsedTime: 4.0 seconds RetCode: 0 Status: OK PackageFile: mapscape_1.33.0.tar.gz PackageFileSize: 4.794 MiB