Package: makecdfenv Version: 1.85.0 Command: /home/biocbuild/R/R/bin/R CMD INSTALL makecdfenv StartedAt: 2025-10-16 21:24:26 -0000 (Thu, 16 Oct 2025) EndedAt: 2025-10-16 21:24:33 -0000 (Thu, 16 Oct 2025) EllapsedTime: 7.1 seconds RetCode: 0 Status: OK