Package: makecdfenv Version: 1.85.0 Command: /Library/Frameworks/R.framework/Resources/bin/R CMD INSTALL makecdfenv StartedAt: 2025-10-19 15:07:04 -0400 (Sun, 19 Oct 2025) EndedAt: 2025-10-19 15:07:08 -0400 (Sun, 19 Oct 2025) EllapsedTime: 3.9 seconds RetCode: 0 Status: OK