Package: makecdfenv Version: 1.85.0 Command: /Library/Frameworks/R.framework/Resources/bin/R CMD check --install=check:makecdfenv.install-out.txt --library=/Library/Frameworks/R.framework/Resources/library --no-vignettes --timings makecdfenv_1.85.0.tar.gz StartedAt: 2025-10-19 20:26:30 -0400 (Sun, 19 Oct 2025) EndedAt: 2025-10-19 20:26:48 -0400 (Sun, 19 Oct 2025) EllapsedTime: 18.3 seconds RetCode: 0 Status: OK CheckDir: makecdfenv.Rcheck Warnings: 0