Package: magrene Version: 1.11.0 Command: F:\biocbuild\bbs-3.22-bioc\R\bin\R.exe CMD INSTALL magrene StartedAt: 2025-08-14 15:24:46 -0400 (Thu, 14 Aug 2025) EndedAt: 2025-08-14 15:25:18 -0400 (Thu, 14 Aug 2025) EllapsedTime: 32.6 seconds RetCode: 0 Status: OK