Package: magrene Version: 1.11.0 Command: rm -rf magrene.buildbin-libdir && mkdir magrene.buildbin-libdir && F:\biocbuild\bbs-3.22-bioc\R\bin\R.exe CMD INSTALL --build --library=magrene.buildbin-libdir magrene_1.11.0.tar.gz StartedAt: 2025-08-15 10:36:53 -0400 (Fri, 15 Aug 2025) EndedAt: 2025-08-15 10:37:10 -0400 (Fri, 15 Aug 2025) EllapsedTime: 16.7 seconds RetCode: 0 Status: OK PackageFile: magrene_1.11.0.zip PackageFileSize: 2.193 MiB