Package: magpie Version: 1.9.0 Command: rm -rf magpie.buildbin-libdir && mkdir magpie.buildbin-libdir && F:\biocbuild\bbs-3.22-bioc\R\bin\R.exe CMD INSTALL --build --library=magpie.buildbin-libdir magpie_1.9.0.tar.gz StartedAt: 2025-08-15 10:36:51 -0400 (Fri, 15 Aug 2025) EndedAt: 2025-08-15 10:37:46 -0400 (Fri, 15 Aug 2025) EllapsedTime: 55.0 seconds RetCode: 0 Status: OK PackageFile: magpie_1.9.0.zip PackageFileSize: 1.364 MiB