Package: maftools Version: 2.25.10 Command: /home/biocbuild/R/R/bin/R CMD INSTALL maftools StartedAt: 2025-10-23 20:28:59 -0000 (Thu, 23 Oct 2025) EndedAt: 2025-10-23 20:29:25 -0000 (Thu, 23 Oct 2025) EllapsedTime: 25.5 seconds RetCode: 0 Status: OK