Package: maftools Version: 2.25.10 Command: /home/biocbuild/R/R/bin/R CMD build --keep-empty-dirs --no-resave-data maftools StartedAt: 2025-10-21 00:51:37 -0000 (Tue, 21 Oct 2025) EndedAt: 2025-10-21 00:56:02 -0000 (Tue, 21 Oct 2025) EllapsedTime: 265.1 seconds RetCode: 0 Status: OK PackageFile: maftools_2.25.10.tar.gz PackageFileSize: 9.57 MiB