Package: maftools Version: 2.25.10 Command: /Library/Frameworks/R.framework/Resources/bin/R CMD INSTALL maftools StartedAt: 2025-10-20 15:12:39 -0400 (Mon, 20 Oct 2025) EndedAt: 2025-10-20 15:13:10 -0400 (Mon, 20 Oct 2025) EllapsedTime: 31.0 seconds RetCode: 0 Status: OK