Package: maftools Version: 2.25.10 Command: /Library/Frameworks/R.framework/Resources/bin/R CMD check --install=check:maftools.install-out.txt --library=/Library/Frameworks/R.framework/Resources/library --no-vignettes --timings maftools_2.25.10.tar.gz StartedAt: 2025-10-20 23:31:42 -0400 (Mon, 20 Oct 2025) EndedAt: 2025-10-20 23:34:29 -0400 (Mon, 20 Oct 2025) EllapsedTime: 166.9 seconds RetCode: 0 Status: OK CheckDir: maftools.Rcheck Warnings: 0