Package: maftools Version: 2.25.10 Command: rm -rf maftools.buildbin-libdir && mkdir maftools.buildbin-libdir && /Users/biocbuild/BBS/utils/build-universal.sh maftools_2.25.10.tar.gz /Library/Frameworks/R.framework/Resources/bin/R maftools.buildbin-libdir StartedAt: 2025-10-21 03:19:29 -0400 (Tue, 21 Oct 2025) EndedAt: 2025-10-21 03:20:07 -0400 (Tue, 21 Oct 2025) EllapsedTime: 38.1 seconds RetCode: 0 Status: OK PackageFile: maftools_2.25.10.tgz PackageFileSize: 13.1 MiB