Package: maftools Version: 2.25.10 Command: /Library/Frameworks/R.framework/Resources/bin/R CMD INSTALL maftools StartedAt: 2025-10-20 15:06:07 -0400 (Mon, 20 Oct 2025) EndedAt: 2025-10-20 15:06:13 -0400 (Mon, 20 Oct 2025) EllapsedTime: 6.7 seconds RetCode: 0 Status: OK