Package: maftools Version: 2.25.10 Command: /Library/Frameworks/R.framework/Resources/bin/R CMD build --keep-empty-dirs --no-resave-data maftools StartedAt: 2025-10-20 16:50:59 -0400 (Mon, 20 Oct 2025) EndedAt: 2025-10-20 16:52:20 -0400 (Mon, 20 Oct 2025) EllapsedTime: 80.9 seconds RetCode: 0 Status: OK PackageFile: maftools_2.25.10.tar.gz PackageFileSize: 12.3 MiB