Package: made4 Version: 1.83.0 Command: /home/biocbuild/R/R/bin/R CMD build --keep-empty-dirs --no-resave-data made4 StartedAt: 2025-10-21 00:51:35 -0000 (Tue, 21 Oct 2025) EndedAt: 2025-10-21 00:52:29 -0000 (Tue, 21 Oct 2025) EllapsedTime: 54.0 seconds RetCode: 0 Status: OK PackageFile: made4_1.83.0.tar.gz PackageFileSize: 1.913 MiB