Package: made4 Version: 1.83.0 Command: /home/biocbuild/bbs-3.22-bioc/R/bin/R CMD INSTALL made4 StartedAt: 2025-10-20 15:19:25 -0400 (Mon, 20 Oct 2025) EndedAt: 2025-10-20 15:19:46 -0400 (Mon, 20 Oct 2025) EllapsedTime: 20.7 seconds RetCode: 0 Status: OK