Package: made4 Version: 1.83.0 Command: /home/biocbuild/bbs-3.22-bioc/R/bin/R CMD check --install=check:made4.install-out.txt --library=/home/biocbuild/bbs-3.22-bioc/R/site-library --timings made4_1.83.0.tar.gz StartedAt: 2025-10-21 01:19:57 -0400 (Tue, 21 Oct 2025) EndedAt: 2025-10-21 01:22:38 -0400 (Tue, 21 Oct 2025) EllapsedTime: 161.1 seconds RetCode: 0 Status: OK CheckDir: made4.Rcheck Warnings: 0