Package: made4 Version: 1.83.0 Command: /Library/Frameworks/R.framework/Resources/bin/R CMD build --keep-empty-dirs --no-resave-data made4 StartedAt: 2025-10-20 17:50:53 -0400 (Mon, 20 Oct 2025) EndedAt: 2025-10-20 17:52:05 -0400 (Mon, 20 Oct 2025) EllapsedTime: 71.5 seconds RetCode: 0 Status: OK PackageFile: made4_1.83.0.tar.gz PackageFileSize: 2.511 MiB