Package: made4 Version: 1.83.0 Command: rm -rf made4.buildbin-libdir && mkdir made4.buildbin-libdir && /Users/biocbuild/BBS/utils/build-universal.sh made4_1.83.0.tar.gz /Library/Frameworks/R.framework/Resources/bin/R made4.buildbin-libdir StartedAt: 2025-10-21 03:19:29 -0400 (Tue, 21 Oct 2025) EndedAt: 2025-10-21 03:20:05 -0400 (Tue, 21 Oct 2025) EllapsedTime: 35.8 seconds RetCode: 0 Status: OK PackageFile: made4_1.83.0.tgz PackageFileSize: 2.271 MiB