Package: made4 Version: 1.83.0 Command: /Library/Frameworks/R.framework/Resources/bin/R CMD check --install=check:made4.install-out.txt --library=/Library/Frameworks/R.framework/Resources/library --no-vignettes --timings made4_1.83.0.tar.gz StartedAt: 2025-10-20 20:28:05 -0400 (Mon, 20 Oct 2025) EndedAt: 2025-10-20 20:29:04 -0400 (Mon, 20 Oct 2025) EllapsedTime: 59.8 seconds RetCode: 0 Status: OK CheckDir: made4.Rcheck Warnings: 0