Package: made4 Version: 1.83.0 Maintainer: Aedin Culhane MaintainerEmail: Aedin at jimmy.harvard.edu git_url: https://git.bioconductor.org/packages/made4 git_branch: devel git_last_commit: f1749da git_last_commit_date: 2025-04-15 09:35:56 -0400 (Tue, 15 Apr 2025)