Package: maaslin3 Version: 1.1.2 Command: /home/biocbuild/R/R/bin/R CMD INSTALL maaslin3 StartedAt: 2025-10-16 21:45:24 -0000 (Thu, 16 Oct 2025) EndedAt: 2025-10-16 21:46:05 -0000 (Thu, 16 Oct 2025) EllapsedTime: 40.8 seconds RetCode: 0 Status: OK