Package: maaslin3 Version: 1.1.2 Command: /home/biocbuild/R/R/bin/R CMD build --keep-empty-dirs --no-resave-data maaslin3 StartedAt: 2025-10-17 02:16:22 -0000 (Fri, 17 Oct 2025) EndedAt: 2025-10-17 02:30:14 -0000 (Fri, 17 Oct 2025) EllapsedTime: 831.3 seconds RetCode: 0 Status: OK PackageFile: maaslin3_1.1.2.tar.gz PackageFileSize: 1.14 MiB