Package: maaslin3 Version: 1.1.0 Command: rm -rf maaslin3.buildbin-libdir && mkdir maaslin3.buildbin-libdir && F:\biocbuild\bbs-3.22-bioc\R\bin\R.exe CMD INSTALL --build --library=maaslin3.buildbin-libdir maaslin3_1.1.0.tar.gz StartedAt: 2025-08-15 10:36:37 -0400 (Fri, 15 Aug 2025) EndedAt: 2025-08-15 10:37:38 -0400 (Fri, 15 Aug 2025) EllapsedTime: 60.3 seconds RetCode: 0 Status: OK PackageFile: maaslin3_1.1.0.zip PackageFileSize: 1.249 MiB