Package: maaslin3 Version: 1.1.2 Command: /home/biocbuild/bbs-3.22-bioc/R/bin/R CMD INSTALL maaslin3 StartedAt: 2025-10-19 15:30:57 -0400 (Sun, 19 Oct 2025) EndedAt: 2025-10-19 15:31:27 -0400 (Sun, 19 Oct 2025) EllapsedTime: 30.1 seconds RetCode: 0 Status: OK