Package: maaslin3 Version: 1.1.2 Command: /home/biocbuild/bbs-3.22-bioc/R/bin/R CMD check --install=check:maaslin3.install-out.txt --library=/home/biocbuild/bbs-3.22-bioc/R/site-library --timings maaslin3_1.1.2.tar.gz StartedAt: 2025-10-20 01:26:05 -0400 (Mon, 20 Oct 2025) EndedAt: 2025-10-20 01:47:10 -0400 (Mon, 20 Oct 2025) EllapsedTime: 1265.3 seconds RetCode: 0 Status: OK CheckDir: maaslin3.Rcheck Warnings: 0