Package: maaslin3 Version: 1.1.2 Command: /home/biocbuild/bbs-3.22-bioc/R/bin/R CMD build --keep-empty-dirs --no-resave-data --md5 maaslin3 StartedAt: 2025-10-19 18:24:17 -0400 (Sun, 19 Oct 2025) EndedAt: 2025-10-19 18:33:30 -0400 (Sun, 19 Oct 2025) EllapsedTime: 553.5 seconds RetCode: 0 Status: OK PackageFile: maaslin3_1.1.2.tar.gz PackageFileSize: 1.089 MiB