Package: maaslin3 Version: 1.1.2 Command: /Library/Frameworks/R.framework/Resources/bin/R CMD INSTALL maaslin3 StartedAt: 2025-10-19 15:27:08 -0400 (Sun, 19 Oct 2025) EndedAt: 2025-10-19 15:27:50 -0400 (Sun, 19 Oct 2025) EllapsedTime: 42.4 seconds RetCode: 0 Status: OK