Package: maaslin3 Version: 1.1.2 Command: /Library/Frameworks/R.framework/Resources/bin/R CMD build --keep-empty-dirs --no-resave-data maaslin3 StartedAt: 2025-10-19 17:52:16 -0400 (Sun, 19 Oct 2025) EndedAt: 2025-10-19 18:04:31 -0400 (Sun, 19 Oct 2025) EllapsedTime: 735.2 seconds RetCode: 0 Status: OK PackageFile: maaslin3_1.1.2.tar.gz PackageFileSize: 1.088 MiB