Package: maaslin3 Version: 1.1.2 Command: rm -rf maaslin3.buildbin-libdir && mkdir maaslin3.buildbin-libdir && /Users/biocbuild/BBS/utils/build-universal.sh maaslin3_1.1.2.tar.gz /Library/Frameworks/R.framework/Resources/bin/R maaslin3.buildbin-libdir StartedAt: 2025-10-20 03:16:44 -0400 (Mon, 20 Oct 2025) EndedAt: 2025-10-20 03:17:31 -0400 (Mon, 20 Oct 2025) EllapsedTime: 46.7 seconds RetCode: 0 Status: OK PackageFile: maaslin3_1.1.2.tgz PackageFileSize: 1.261 MiB