Package: maaslin3 Version: 1.1.2 Command: /Library/Frameworks/R.framework/Resources/bin/R CMD check --install=check:maaslin3.install-out.txt --library=/Library/Frameworks/R.framework/Resources/library --no-vignettes --timings maaslin3_1.1.2.tar.gz StartedAt: 2025-10-19 20:25:40 -0400 (Sun, 19 Oct 2025) EndedAt: 2025-10-19 20:30:31 -0400 (Sun, 19 Oct 2025) EllapsedTime: 290.7 seconds RetCode: 0 Status: OK CheckDir: maaslin3.Rcheck Warnings: 0